BEGIN:VCALENDAR
VERSION:2.0
PRODID:-//Covenant Academy
CALSCALE:GREGORIAN
METHOD:PUBLISH
X-WR-CALNAME:Covenant Academy
X-ORIGINAL-URL:https://covenant-academy.com/product/phlebotomy-techinician-class-august-25-september-17-2026/
X-WR-CALDESC:Phlebotomy Technician Evening Class: August 25- September 17, 2026 (T &#038; Th)
BEGIN:VEVENT
DTSTART:20260825T180000
DTEND:20260917T200000
SUMMARY:Phlebotomy Technician Evening Class: August 25- September 17, 2026 (T &#038; Th)
DESCRIPTION:
URL:https://covenant-academy.com/product/phlebotomy-techinician-class-august-25-september-17-2026/
LOCATION:
END:VEVENT
END:VCALENDAR
