BEGIN:VCALENDAR
VERSION:2.0
PRODID:-//Covenant Academy
CALSCALE:GREGORIAN
METHOD:PUBLISH
X-WR-CALNAME:Covenant Academy
X-ORIGINAL-URL:https://covenant-academy.com/product/c-n-a-nursing-assistant-afternoon-class-december-1-29/
X-WR-CALDESC:C.N.A. &#8211; Nursing Assistant Afternoon Class: December 1 &#8211; 29, 2026   (4-weeks T &#038; Th)
BEGIN:VEVENT
DTSTART:20261201T123000
DTEND:20261229T150000
SUMMARY:C.N.A. &#8211; Nursing Assistant Afternoon Class: December 1 &#8211; 29, 2026   (4-weeks T &#038; Th)
DESCRIPTION:
URL:https://covenant-academy.com/product/c-n-a-nursing-assistant-afternoon-class-december-1-29/
LOCATION:
END:VEVENT
END:VCALENDAR
