BEGIN:VCALENDAR
VERSION:2.0
PRODID:-//Covenant Academy
CALSCALE:GREGORIAN
METHOD:PUBLISH
X-WR-CALNAME:Covenant Academy
X-ORIGINAL-URL:https://covenant-academy.com/product/for-2-weekscna-nursing-assistant-day-class-december-7-18/
X-WR-CALDESC:CNA &#8211; Nursing Assistant Day Class: December 7 &#8211; 18, 2026  (2-weeks)
BEGIN:VEVENT
DTSTART:20261207T100000
DTEND:20261218T120000
SUMMARY:CNA &#8211; Nursing Assistant Day Class: December 7 &#8211; 18, 2026  (2-weeks)
DESCRIPTION:
URL:https://covenant-academy.com/product/for-2-weekscna-nursing-assistant-day-class-december-7-18/
LOCATION:
END:VEVENT
END:VCALENDAR
